BEGIN:VCALENDAR
VERSION:2.0
PRODID:-//wp-events-plugin.com//7.2.3.1//EN
BEGIN:VEVENT
UID:33@ampabenatorre.org
DTSTART;TZID=Europe/Madrid:20260319T171500
DTEND;TZID=Europe/Madrid:20260319T190000
DTSTAMP:20260309T100047Z
URL:https://ampabenatorre.org/Eventos/taller-familias-reales-dudas-reales/
SUMMARY:Taller "Familias reales\, dudas reales"
DESCRIPTION:Cerramos el ciclo de sesiones de disciplina positiva con un enc
 uentro práctico y participativo.
ATTACH;FMTTYPE=image/jpeg:https://ampabenatorre.org/ampa/wp-content/upload
 s/2026/03/preguntas-19-amrzo2-e1773050373726.jpeg
LOCATION:ceip Josefina Aldecoa\, C/Calima s/n\, Torre de Benagalbón\, Mala
 ga\, 29738\, Rincón de la Victoria\, España
X-APPLE-STRUCTURED-LOCATION;VALUE=URI;X-ADDRESS=C/Calima s/n\, Torre de Ben
 agalbón\, Malaga\, 29738\, Rincón de la Victoria\, España;X-APPLE-RADIU
 S=100;X-TITLE=ceip Josefina Aldecoa:geo:0,0
END:VEVENT
BEGIN:VTIMEZONE
TZID:Europe/Madrid
X-LIC-LOCATION:Europe/Madrid
BEGIN:STANDARD
DTSTART:20251026T020000
TZOFFSETFROM:+0200
TZOFFSETTO:+0100
TZNAME:CET
END:STANDARD
END:VTIMEZONE
END:VCALENDAR