BEGIN:VCALENDAR
VERSION:2.0
PRODID:-//wp-events-plugin.com//7.2.3.1//EN
BEGIN:VEVENT
UID:22@ampabenatorre.org
DTSTART;TZID=Europe/Madrid:20250206T160000
DTEND;TZID=Europe/Madrid:20250206T173000
DTSTAMP:20250127T113345Z
URL:https://ampabenatorre.org/Eventos/taller-exclusivo-de-tecnicas-de-estu
 dio/
SUMMARY:Taller exclusivo de Técnicas de Estudio
DESCRIPTION:Taller de Estudio para alumnas/os de 4º\,5º y 6º de primaria
 \, con una duración de 3 meses. Becado al 50% socios AM
ATTACH;FMTTYPE=image/jpeg:https://ampabenatorre.org/ampa/wp-content/upload
 s/2025/01/WhatsApp-Image-2025-01-24-at-16.01.56.jpeg
LOCATION:ceip Josefina Aldecoa\, C/Calima s/n\, Torre de Benagalbón\, Mala
 ga\, 29738\, Rincón de la Victoria\, España
X-APPLE-STRUCTURED-LOCATION;VALUE=URI;X-ADDRESS=C/Calima s/n\, Torre de Ben
 agalbón\, Malaga\, 29738\, Rincón de la Victoria\, España;X-APPLE-RADIU
 S=100;X-TITLE=ceip Josefina Aldecoa:geo:0,0
END:VEVENT
BEGIN:VTIMEZONE
TZID:Europe/Madrid
X-LIC-LOCATION:Europe/Madrid
BEGIN:STANDARD
DTSTART:20241027T020000
TZOFFSETFROM:+0200
TZOFFSETTO:+0100
TZNAME:CET
END:STANDARD
END:VTIMEZONE
END:VCALENDAR