BEGIN:VCALENDAR
VERSION:2.0
PRODID:-//wp-events-plugin.com//7.2.3.1//EN
BEGIN:VEVENT
UID:18@ampabenatorre.org
DTSTART;TZID=Europe/Madrid:20240614T160000
DTEND;TZID=Europe/Madrid:20240614T180000
DTSTAMP:20240610T195300Z
URL:https://ampabenatorre.org/Eventos/taller-de-familias-como-afrontar-el-
 verano/
SUMMARY:Taller de familias "como afrontar el verano"
DESCRIPTION:¡Hola familias! 🌞\nEste verano\, con el fin del colegio\, e
 nfrentamos nuevos retos y horarios que ajustar. En este espacio\, hablarem
 os sobre los problemas y temores que puedan surgir\, y ofreceremos estrate
 gias para afrontarlos sin morir en el intento. 😅\n\nEsperamos que este 
 espacio os ayude a gestionar mejor esta nueva etapa veraniega. Tendremos s
 ervicio de ludoteca y\, para cerrar el ciclo de talleres\, habrá juegos f
 amiliares y una merienda compartida. Cada uno puede traer algo apra compar
 tir y disfrutar.\n\nRogamos que al ser plazas limitadas\, si no vais a asi
 stir lo comuniquéis! 661 63 24 24\nEntrada por calle Calima (puerta bus)\
 n\nLudoteca Gratuita\n\n\n\n¡Os esperamos con ilusión en el taller!\n\n
 ¡Que tengáis un verano lleno de diversión y momentos especiales! 🌴
 🍉🌺 Inscripciones: https://forms.gle/buXxLwRwaTvBW8GY7
ATTACH;FMTTYPE=image/jpeg:https://ampabenatorre.org/ampa/wp-content/upload
 s/2024/06/WhatsApp-Image-2024-06-10-at-13.38.30-e1718036129755.jpeg
LOCATION:Colegio Josefina Alcecoa\, Calle Putt s/n\, Málaga\, españa\,  2
 9738\, Torre de Benagalbón\, España
X-APPLE-STRUCTURED-LOCATION;VALUE=URI;X-ADDRESS=Calle Putt s/n\, Málaga\, 
 españa\,  29738\, Torre de Benagalbón\, España;X-APPLE-RADIUS=100;X-TIT
 LE=Colegio Josefina Alcecoa:geo:0,0
END:VEVENT
BEGIN:VTIMEZONE
TZID:Europe/Madrid
X-LIC-LOCATION:Europe/Madrid
BEGIN:DAYLIGHT
DTSTART:20240331T030000
TZOFFSETFROM:+0100
TZOFFSETTO:+0200
TZNAME:CEST
END:DAYLIGHT
END:VTIMEZONE
END:VCALENDAR