BEGIN:VCALENDAR
VERSION:2.0
PRODID:-//wp-events-plugin.com//7.2.3.1//EN
BEGIN:VEVENT
UID:32@ampabenatorre.org
DTSTART;TZID=Europe/Madrid:20260423T171500
DTEND;TZID=Europe/Madrid:20260423T183000
DTSTAMP:20260406T110644Z
URL:https://ampabenatorre.org/Eventos/taller-de-familias-ciberseguridad/
SUMMARY:Taller de familias "Ciberseguridad"
DESCRIPTION:Horario por definir
ATTACH;FMTTYPE=image/jpeg:https://ampabenatorre.org/ampa/wp-content/upload
 s/2026/03/ciber.jpeg
END:VEVENT
BEGIN:VTIMEZONE
TZID:Europe/Madrid
X-LIC-LOCATION:Europe/Madrid
BEGIN:DAYLIGHT
DTSTART:20260329T030000
TZOFFSETFROM:+0100
TZOFFSETTO:+0200
TZNAME:CEST
END:DAYLIGHT
END:VTIMEZONE
END:VCALENDAR