BEGIN:VCALENDAR
VERSION:2.0
PRODID:-//wp-events-plugin.com//7.2.3.1//EN
BEGIN:VEVENT
UID:4@ampabenatorre.org
DTSTART;TZID=Europe/Madrid:20231124T160000
DTEND;TZID=Europe/Madrid:20231124T180000
DTSTAMP:20231116T120232Z
URL:https://ampabenatorre.org/Eventos/segundo-encuentro-de-la-escuela-de-f
 amilias/
SUMMARY:Segundo Encuentro de "la Escuela de Familias"
DESCRIPTION:\n\nESCUELA DE FAMILIAS Hola familias! Os anunciamos el SEGUNDO
  ENCUENTRO DE “LA ESCUELA DE FAMILIAS” el día 24 de noviembre DE 16 A
  18H. En nuestro segundo encuentro familiar podréis asistir la familia al
  completo o los que puedan. Habrá una hora con ludoteca para trabajar asp
 ectos específicos. Hablaremos sobre un tema fundamental dentro de la fami
 lia: la ESCUCHA. s actividades\, dinámicas y juegos sobre cómo\, qué y 
 cuándo escuchamos activamente\, y cuando nos desconectamos. Y cómo puede
  esto afectar a las relaciones entre las personas dentro y fuera de la fam
 ilia.\nNecesario: ropa cómoda\, algún cojín para sentarse y muchas gana
 s de pasarlo bien! Necesario inscripción\n\nOs rogamos que al ser plazas 
 limitadas si no vais a asistir lo comuniquéis con al menos 24 horas antes
  del taller. PARA LOS QUE QUIERAN\, AL FINALIZAR EL ENCUENTRO SE ABRIRÁ U
 N ESPACIO PARA COMPARTIR UNA MERIENDA\, CADA UNO TRAERÁ ALGO PARA COMPART
 IR Y DISFRUTAR. Os esperamos\n\nsi necesitáis ludoteca ponerlo en comenta
 rio de la reserva\n\n
ATTACH;FMTTYPE=image/jpeg:https://ampabenatorre.org/ampa/wp-content/upload
 s/2023/11/402636087_6861566427270922_7229065740192207138_n.jpg
LOCATION:Colegio Josefina Aldecoa\, calle putt s/n\, Rincón de la Victoria
 \, Málaga\, 29738\, Torre de Benagalbón\, España
X-APPLE-STRUCTURED-LOCATION;VALUE=URI;X-ADDRESS=calle putt s/n\, Rincón de
  la Victoria\, Málaga\, 29738\, Torre de Benagalbón\, España;X-APPLE-RA
 DIUS=100;X-TITLE=Colegio Josefina Aldecoa:geo:0,0
END:VEVENT
BEGIN:VTIMEZONE
TZID:Europe/Madrid
X-LIC-LOCATION:Europe/Madrid
BEGIN:STANDARD
DTSTART:20231029T020000
TZOFFSETFROM:+0200
TZOFFSETTO:+0100
TZNAME:CET
END:STANDARD
END:VTIMEZONE
END:VCALENDAR